BEGIN:VCALENDAR
VERSION:2.0
PRODID:-//jEvents 2.0 for Joomla//EN
CALSCALE:GREGORIAN
METHOD:PUBLISH
BEGIN:VTIMEZONE
TZID:Europe/Berlin
BEGIN:STANDARD
DTSTART:20260119T150000
RDATE:20260329T030000
TZOFFSETFROM:+0200
TZOFFSETTO:+0100
TZNAME:Europe/Berlin CET
END:STANDARD
BEGIN:STANDARD
DTSTART:20261025T020000
RDATE:20270328T030000
TZOFFSETFROM:+0200
TZOFFSETTO:+0100
TZNAME:Europe/Berlin CET
END:STANDARD
BEGIN:STANDARD
DTSTART:20271031T020000
RDATE:20280326T030000
TZOFFSETFROM:+0200
TZOFFSETTO:+0100
TZNAME:Europe/Berlin CET
END:STANDARD
BEGIN:STANDARD
DTSTART:20281029T020000
RDATE:20290325T030000
TZOFFSETFROM:+0200
TZOFFSETTO:+0100
TZNAME:Europe/Berlin CET
END:STANDARD
BEGIN:STANDARD
DTSTART:20291028T020000
RDATE:20300331T030000
TZOFFSETFROM:+0200
TZOFFSETTO:+0100
TZNAME:Europe/Berlin CET
END:STANDARD
BEGIN:STANDARD
DTSTART:20301027T020000
RDATE:20310330T030000
TZOFFSETFROM:+0200
TZOFFSETTO:+0100
TZNAME:Europe/Berlin CET
END:STANDARD
BEGIN:STANDARD
DTSTART:20311026T020000
RDATE:20320328T030000
TZOFFSETFROM:+0200
TZOFFSETTO:+0100
TZNAME:Europe/Berlin CET
END:STANDARD
BEGIN:DAYLIGHT
DTSTART:20260329T030000
RDATE:20261025T020000
TZOFFSETFROM:+0100
TZOFFSETTO:+0200
TZNAME:Europe/Berlin CEST
END:DAYLIGHT
BEGIN:DAYLIGHT
DTSTART:20270328T030000
RDATE:20271031T020000
TZOFFSETFROM:+0100
TZOFFSETTO:+0200
TZNAME:Europe/Berlin CEST
END:DAYLIGHT
BEGIN:DAYLIGHT
DTSTART:20280326T030000
RDATE:20281029T020000
TZOFFSETFROM:+0100
TZOFFSETTO:+0200
TZNAME:Europe/Berlin CEST
END:DAYLIGHT
BEGIN:DAYLIGHT
DTSTART:20290325T030000
RDATE:20291028T020000
TZOFFSETFROM:+0100
TZOFFSETTO:+0200
TZNAME:Europe/Berlin CEST
END:DAYLIGHT
BEGIN:DAYLIGHT
DTSTART:20300331T030000
RDATE:20301027T020000
TZOFFSETFROM:+0100
TZOFFSETTO:+0200
TZNAME:Europe/Berlin CEST
END:DAYLIGHT
BEGIN:DAYLIGHT
DTSTART:20310330T030000
RDATE:20311026T020000
TZOFFSETFROM:+0100
TZOFFSETTO:+0200
TZNAME:Europe/Berlin CEST
END:DAYLIGHT
END:VTIMEZONE
BEGIN:VEVENT
UID:55dc79067042cb53c1208314b7f32972
CATEGORIES:Veranstaltungen
CREATED:20260302T114659
SUMMARY:Informationsveranstaltung im Januar 2027
DESCRIPTION:Der Nachbarschaftsverein Fuldatal e. V. und der Seniorenbeirat der Gemeinde
  Fuldatal \nladen ein zu einer offenen Informationsveranstaltung zum Thema:
 \nwird noch bekanntgegeben\nWann:  Mittwoch, 20. Januar 2027, 15.00 Uhr\nWo
 : BeneVit Haus Sonnenhof, Bruchstraße 4, Fuldatal-Ihringshausen \n(das näch
 ste Gebäude rechts neben dem Rathaus, 3. Etage rechts, Fahrstuhl vorhanden)
 \nReferent/in: wird noch bekanntgegeben\nDer Nachbarschaftsverein bietet  a
 uf Wunsch einen Fahrdienst an.\nWegen der organisatorischen Vorbereitungen 
 wird um Voranmeldung unter 0561/9818-1103 oder - 1071 gebeten, alternativ i
 st auch eine Anmeldung per eMail an Diese E-Mail-Adresse ist vor Spambots g
 eschützt! Zur Anzeige muss JavaScript eingeschaltet sein.\nmöglich.\n
     
        Wer weiß denn sowas?        


	

\n
            Das könnte Sie eben
 falls interessieren:        

			
			
			
						
			
			

									Einladun
 g zur Mitgliederversammlung am 29.04.2026 (/einladung-zur-mitgliederversamm
 lung-am-29-04-2026)
				
				
					
					
									

									
						Sehr g
 eehrtes Mitglied,unsere diesjährige ordentliche Mitgliederversammlung finde
 t statt am Mittwoch, 29.04.2026 um 17.00 Uhr in Raum 300 (2. Stock links) d
 es Rathauses,Am Rathaus 9 in Fuldatal-Ihringshausen,zu der hiermit herzlich
 st eingeladen wird.  Auf der Tagesordnung stehen folgende Themen:  TOP 1: E
 röffnung und Begrüßung  TOP 2:  Gedenken an unsere verstorbenen Mitglieder 
  TOP 3:  Berichte: Des Vorsitzenden und der Kassiererin  TOP 4:  Aussprache
  zu den Berichten  TOP 5:  Bericht der Revisoren und Antrag auf Entlastung 
 des Vorstandes  TOP 6:  Wahl einer Kassenprüferin oder eines Kassenprüfers 
  TOP 7: ...					\n
				
									
						
															Weiterlesen …						
 							 (/einladung-zur-mitgliederversammlung-am-29-04-2026)
					\n
						
 	

			
		
			
			
			
						
			
			

									Ihr Android Smartphon /Table
 t - das unbekannte Wesen (/ihr-android-smartphon-tablet-das-unbekannte-wese
 n)
				
				
					
					
									

									
						Haben Sie kürzlich ein 
 neues Smartphone/-Tablet erworben oder beabsichtigen Sie, sich diese neue T
 echnik zuzulegen?  Und……………..  - sind noch unsicher mit der Bedienung,  - o
 der möchten noch weitere Funktionen kennenlernen, wie z.B. Ersteinrichtung,
  Installation von Apps, Nutzung der Kamera, Versenden von Textnachrichten. 
     Dann bieten wir Ihnen unsere Unterstützung an.   Der nächste Workshop b
 egann am 25.03.2026 von 10.30 Uhr – 11.30 Uhr und findet jede Woche statt, 
 insgesamt ca.6 x, maximal 10 Personen, im Rathaus 2.Stock Zimmer 301 statt.
    Um Voranmeldung wird gebeten.  Weitere Informationen erhalten...					\n

 				
									
						
															Weiterlesen …													 (/ihr-andro
 id-smartphon-tablet-das-unbekannte-wesen)
					\n
							

			
		
			
			
	
 		
						
			
			

									Kulissenschieber Fuldatal boten „Guns ‚n‘ Nuns“
  (/kulissenschieber-fuldatal-boten-guns-n-nuns)
				
				
					
					
					
 				

									
						Im gut gefüllten FuldaTalerForum in Fuldatal-Ihringsh
 ausen wurde am Nachmittag des Frühlingsanfangs (21. März) Theaterfreunden e
 in ebenso unterhaltsames wie gelungenes Erlebnis geboten: Das Ensemble der 
 Kulissenschieber präsentierte die spritzige Kriminalkomödie „Guns ’n’ Nuns“
  – und traf damit genau ins Schwarze. Der Eintritt war frei, doch die zahlr
 eichen Besucherinnen und Besucher zeigten sich überaus spendabel. Die gesam
 melten Spenden kommen dem Nachbarschaftsverein Fuldatal zugute, der gemeins
 am mit den Kulissenschiebern zu diesem besonderen Theaternachmittag eingela
 den hatte.  Bereits beim...					\n
				
									
						
															Wei
 terlesen …													 (/kulissenschieber-fuldatal-boten-guns-n-nuns)
				
 	\n
							

			
		
			
			
			
						
			
			

									Gesunde Ernährung 
 im Alter - was tut mir gut? (/gesunde-ernaehrung-im-alter-was-tut-mir-gut)

 				
				
					
					
									

									
						Auf große Resonanz stieß d
 ie offene Informationsveranstaltung zum Thema „Gesunde Ernährung im Alter –
  was tut mir gut?“, zu der der Seniorenbeirat sowie der Nachbarschaftsverei
 n Fuldatal Mitte März eingeladen hatten. Interessierte Bürgerinnen und Bürg
 er, darunter auch Fuldatals Bürgermeister Tore Florin, nutzten die Gelegenh
 eit, sich umfassend zu informieren und miteinander ins Gespräch zu kommen. 
    Referentin Brigitte Ringeler-Leipholz in Aktion  Den Schwerpunkt der Ver
 anstaltung bildete das Thema „Fette“ als wichtiger Bestandteil einer ausgew
 ogenen und abwechslungsreichen Ernährung. Die...					\n
				
									
				
 		
															Weiterlesen …													 (/gesunde-ernaehrung-im-alter-
 was-tut-mir-gut)
					\n
							

			
		
			
			
			
						
			
			

						
 			Seelisches Wohlergehen im Alter: Informationsveranstaltung in Fuldatal s
 tieß auf großes Interesse (/seelisches-wohlergehen-im-alter)
				
				
				
 	
					
									

									
						Auf Einladung des Seniorenbeirats und de
 s Nachbarschaftsvereins Fuldatal hatten interessierte Bürgerinnen und Bürge
 r in der vorletzten Januarwoche die Gelegenheit, sich intensiv mit einem Th
 ema auseinanderzusetzen, das viele Menschen bewegt: dem seelischen Wohlerge
 hen im Alter. Die gut besuchte Informationsveranstaltung bot wertvolle Impu
 lse, praxisnahe Anregungen und Raum für Austausch in angenehmer Atmosphäre.
   Als Referentin konnte die Psychologin und Therapeutin Cordula Schmidt gew
 onnen werden, die den Teilnehmenden auf verständliche und zugleich fundiert
 e Weise wissenschaftlich belegte,...					\n
				
									
						
									
 						Weiterlesen …													 (/seelisches-wohlergehen-im-alter)
					\n
 
							

			
		
			
			
			
						
			
			

									Neujahrskonzert 2026 
 der Musikschule Chroma (/neujahrskonzert-2026-der-musikschule-chroma)
				

 				
					
					
									

									
						Natürlich war der Nachbarschaft
 sverein Fuldatal beim traditionellen Neujahrskonzert der Musikschule Chroma
  in der Mehrzweckhalle in Vellmar-Frommershausen wieder mit von der Partie.
  Die Louis Spohr-Sinfonietta unter der Leitung von Lore Schrettner begeiste
 rte die zahlreichen Gäste auf ein Neues mit virtuos dargebotenen Stücken, v
 oller temperamentvoller Hingabe, aber auch gefühlvoll und besinnlich.  Die 
 Louis Spohr-Sinfonietta unter der Leitung von Lore Schrettner (Bildmitte) D
 as breit gefächerte Repertoire umfasste dieses Mal unter anderem Stücke von
  Robert Stolz, wie den UNO-Marsch  sowie –...					\n
				
									
						

 															Weiterlesen …													 (/neujahrskonzert-2026-der-musiks
 chule-chroma)
					\n
							

			
		
			
			
			
						
			
			

									
 Senioren in Bewegung - nach der Winterpause am 15. Januar neu gestartet
			
 	
				
					
					
									

									
						Der Nachbarschaftsverein brin
 gt „Senioren in Bewegung“ – Training für eine sichere Mobilität im Alltag E
 inmal wöchentlich am Donnerstag treffen sich aktive Seniorinnen und Seniore
 n im Fuldataler Forum, um sich mithilfe einer im Seniorensport erfahrenen S
 portlehrerin für ihren Alltag in Form zu bringen. So trainieren sie am Anfa
 ng zur Musik der 60er ihre Orientierung, ihr Gedächtnis und Multitasking Fä
 higkeiten, indem nicht nur rhythmisch gelaufen wird, sondern indem Zusatzau
 fgaben (Bälle zuwerfen, einem Partner wie ein Schatten zu folgen, Übungen z
 u Zahlen erledigen o.ä.) zu bewältigen sind.					\n
				
									
						
	
 														Weiterlesen …													 (/senioren-in-bewegung-neustart-na
 ch-der-winterpause-am-15-januar)
					\n
							

			
		
			
			
			
						
 
			
			

									Sicher im Alter - informiert statt hereingefallen (/sich
 er-im-alter-informiert-statt-hereingefallen)
				
				
					
					
								
 	

									
						Mit großem Interesse und spürbarer Aufmerksamkeit verfol
 gten zahlreiche Gäste am dritten Mittwoch im November eine offene Informati
 onsveranstaltung unter dem Titel „Sicher im Alter – informiert statt herein
 gefallen“, zu der der Nachbarschaftsverein Fuldatal zusammen mit dem Senior
 enbeirat der Gemeinde Fuldatal eingeladen haben. Ziel des Abends war es, äl
 tere Menschen über aktuelle Betrugsmaschen aufzuklären und ihnen praktische
  Handlungsempfehlungen an die Hand zu geben. Die Resonanz zeigte deutlich, 
 wie wichtig das Thema für viele Seniorinnen und Senioren inzwischen geworde
 n ist.  Bild oben:...					\n
				
									
						
															Weiterles
 en …													 (/sicher-im-alter-informiert-statt-hereingefallen)
					\
 n
							

			
		
			
			
			
						
			
			

									Vorsorgevollmacht, P
 atienten- und Betreuungsverfügung (/vorsorgevollmacht-patienten-und-betreuu
 ngsverfuegung)
				
				
					
					
									

									
						Der Seniore
 nbeirat der Gemeinde Fuldatal und der Nachbarschaftsverein Fuldatal hatten 
 zu einer offenen Informationsveranstaltung über Vorsorgevollmacht, Patiente
 n- und Betreuungsverfügung eingeladen.  Deren Vorsitzende Brigitte Ringeler
 -Leipholz und Michael Thöne (Bildmitte oben) freuten sich, rund 60 Gäste im
  BeneVit Haus Sonnenhof in Fuldatal-Ihringshausen am dritten Mittwoch im Se
 ptember begrüßen zu dürfen  Martina Homburg vom Betreuungsverein e. V. Hofg
 eismar (Bild oben) hat den Anwesenden durch ihre verständliche und praxisna
 he Darstellung nicht nur wichtige rechtliche Zusammenhänge...					\n
				
	
 								
						
															Weiterlesen …													 (/vorsorgevollmac
 ht-patienten-und-betreuungsverfuegung)
					\n
							

			
		
	
\n
X-ALT-DESC;FMTTYPE=text/html:<p>Der Nachbarschaftsverein Fuldatal e. V. und der Seniorenbeirat der Gemei
 nde Fuldatal&nbsp;<br />laden ein zu einer offenen Informationsveranstaltun
 g zum&nbsp;<strong>Thema</strong>:</p><p><strong>wird noch bekanntgegeben</
 strong></p><p>Wann:<strong>&nbsp; Mittwoch, 20. Januar 2027, 15.00 Uhr</str
 ong></p><p>Wo:<strong>&nbsp;BeneVit Haus Sonnenhof, Bruchstraße 4, Fuldatal
 -Ihringshausen&nbsp;<br /></strong>(das nächste Gebäude rechts neben dem Ra
 thaus, 3. Etage rechts, Fahrstuhl vorhanden)</p><p><strong>Referent/in: wir
 d noch bekanntgegeben</strong></p><p>Der Nachbarschaftsverein bietet&nbsp; 
 auf Wunsch einen Fahrdienst an.</p><p>Wegen der organisatorischen Vorbereit
 ungen wird um Voranmeldung unter&nbsp;<a href="https://nachbarschaftsverein
 -fuldatal.de/tel:0561/9818-1103">0561/9818-1103</a>&nbsp;oder - 1071 gebete
 n, alternativ ist auch eine Anmeldung per eMail an&nbsp;<em><joomla-hidden-
 mail  is-link="1" is-email="1" first="aW5mbw==" last="bmFjaGJhcnNjaGFmdHN2Z
 XJlaW4tZnVsZGF0YWwuZGU=" text="aW5mb0BuYWNoYmFyc2NoYWZ0c3ZlcmVpbi1mdWxkYXRh
 bC5kZQ==" base="" >Diese E-Mail-Adresse ist vor Spambots geschützt! Zur Anz
 eige muss JavaScript eingeschaltet sein.</joomla-hidden-mail></em><br />mög
 lich.</p><p><div class="moduletable ">
            <h3 >Wer weiß denn sowas
 ?</h3>        

<div class="custom"  >
	<iframe src="https://www.raetselstu
 nde.de/quizfrage-zufall.html" name="Zufalls-Quizfrage" width="100%" height=
 "200" frameborder="0" scrolling="no" align="middle"></iframe></div>
</div>

 </p><p><div class="moduletable ">
            <h4 >Das könnte Sie ebenfalls
  interessieren:</h4>        
<div class="magz-layout list-layout row">
			<
 div class="blog-item col-12">
			<div class="item-inner">
			<!-- Item imag
 e -->
						<!-- // Item image -->
			
			<div class="item-ct">

									<
 h3 class="item-title"><a class="mod-articles-category-title " href="https:/
 /nachbarschaftsverein-fuldatal.de/einladung-zur-mitgliederversammlung-am-29
 -04-2026">Einladung zur Mitgliederversammlung am 29.04.2026</a></h3>
				
	
 			<div class="item-meta">
					
					
									</div>

									<p class="
 item-introtext">
						Sehr geehrtes Mitglied,unsere diesjährige ordentlich
 e Mitgliederversammlung findet statt <strong>am Mittwoch, 29.04.2026 um 17.
 00 Uhr in Raum 300 (2. Stock links) des Rathauses,</strong>Am Rathaus 9 in 
 Fuldatal-Ihringshausen,zu der hiermit herzlichst eingeladen wird.  Auf der 
 Tagesordnung stehen folgende Themen:  TOP 1: Eröffnung und Begrüßung  TOP 2
 :&nbsp; Gedenken an unsere verstorbenen Mitglieder  TOP 3:&nbsp; Berichte: 
 Des Vorsitzenden und der Kassiererin  TOP 4:&nbsp; Aussprache zu den Berich
 ten  TOP 5:&nbsp; Bericht der Revisoren und Antrag auf Entlastung des Vorst
 andes  TOP 6:&nbsp; Wahl einer Kassenprüferin oder eines Kassenprüfers  TOP
  7:&nbsp;...					</p>
				
									<p class="item-readmore">
						<a clas
 s="mod-articles-category-title " href="https://nachbarschaftsverein-fuldata
 l.de/einladung-zur-mitgliederversammlung-am-29-04-2026">
															Wei
 terlesen &hellip;													</a>
					</p>
							</div>

			</div>
		</d
 iv>
			<div class="blog-item col-12">
			<div class="item-inner">
			<!-- I
 tem image -->
						<!-- // Item image -->
			
			<div class="item-ct">

		
 							<h3 class="item-title"><a class="mod-articles-category-title " href=
 "https://nachbarschaftsverein-fuldatal.de/ihr-android-smartphon-tablet-das-
 unbekannte-wesen">Ihr Android Smartphon /Tablet - das unbekannte Wesen</a><
 /h3>
				
				<div class="item-meta">
					
					
									</div>

								
 	<p class="item-introtext">
						Haben Sie kürzlich ein neues Smartphone/-
 Tablet erworben oder beabsichtigen Sie, sich diese neue Technik zuzulegen? 
  Und……………..  -&nbsp;sind noch unsicher mit der Bedienung,  -&nbsp;oder möch
 ten noch weitere Funktionen kennenlernen,&nbsp;wie z.B. Ersteinrichtung,&nb
 sp;Installation von Apps,&nbsp;Nutzung der Kamera,&nbsp;Versenden von Textn
 achrichten.    &nbsp;Dann bieten wir Ihnen unsere Unterstützung an.&nbsp;  
 <strong>Der nächste Workshop begann am&nbsp;25.03.2026&nbsp;von&nbsp;10.30&
 nbsp;Uhr – 11.30&nbsp;Uhr&nbsp;und findet&nbsp;jede Woche&nbsp;statt, insge
 samt&nbsp;ca.6 x,&nbsp;maximal 10 Personen,&nbsp;im Rathaus&nbsp;2.Stock Zi
 mmer&nbsp;301&nbsp;statt.&nbsp;</strong>  Um Voranmeldung wird gebeten.  We
 itere Informationen erhalten...					</p>
				
									<p class="item-readm
 ore">
						<a class="mod-articles-category-title " href="https://nachbarsc
 haftsverein-fuldatal.de/ihr-android-smartphon-tablet-das-unbekannte-wesen">
 
															Weiterlesen &hellip;													</a>
					</p>
							</di
 v>

			</div>
		</div>
			<div class="blog-item col-12">
			<div class="ite
 m-inner">
			<!-- Item image -->
						<!-- // Item image -->
			
			<div c
 lass="item-ct">

									<h3 class="item-title"><a class="mod-articles-cat
 egory-title " href="https://nachbarschaftsverein-fuldatal.de/kulissenschieb
 er-fuldatal-boten-guns-n-nuns">Kulissenschieber Fuldatal boten „Guns ‚n‘ Nu
 ns“</a></h3>
				
				<div class="item-meta">
					
					
									</div>


 									<p class="item-introtext">
						Im gut gefüllten FuldaTalerForum 
 in Fuldatal-Ihringshausen wurde am Nachmittag des Frühlingsanfangs (21. Mär
 z) Theaterfreunden ein ebenso unterhaltsames wie gelungenes Erlebnis gebote
 n: Das Ensemble der Kulissenschieber präsentierte die spritzige Kriminalkom
 ödie „Guns ’n’ Nuns“ – und traf damit genau ins Schwarze. Der Eintritt war 
 frei, doch die zahlreichen Besucherinnen und Besucher zeigten sich überaus 
 spendabel. Die gesammelten Spenden kommen dem Nachbarschaftsverein Fuldatal
  zugute, der gemeinsam mit den Kulissenschiebern zu diesem besonderen Theat
 ernachmittag eingeladen hatte.  Bereits beim...					</p>
				
									<p c
 lass="item-readmore">
						<a class="mod-articles-category-title " href="h
 ttps://nachbarschaftsverein-fuldatal.de/kulissenschieber-fuldatal-boten-gun
 s-n-nuns">
															Weiterlesen &hellip;													</a>
					</p>
	
 						</div>

			</div>
		</div>
			<div class="blog-item col-12">
			<div 
 class="item-inner">
			<!-- Item image -->
						<!-- // Item image -->
			
 
			<div class="item-ct">

									<h3 class="item-title"><a class="mod-ar
 ticles-category-title " href="https://nachbarschaftsverein-fuldatal.de/gesu
 nde-ernaehrung-im-alter-was-tut-mir-gut">Gesunde Ernährung im Alter - was t
 ut mir gut?</a></h3>
				
				<div class="item-meta">
					
					
									
 </div>

									<p class="item-introtext">
						Auf große Resonanz stieß 
 die offene Informationsveranstaltung zum Thema „Gesunde Ernährung im Alter 
 – was tut mir gut?“, zu der der Seniorenbeirat sowie der Nachbarschaftsvere
 in Fuldatal Mitte März eingeladen hatten. Interessierte Bürgerinnen und Bür
 ger, darunter auch Fuldatals Bürgermeister Tore Florin, nutzten die Gelegen
 heit, sich umfassend zu informieren und miteinander ins Gespräch zu kommen.
     <em>Referentin Brigitte Ringeler-Leipholz in Aktion</em>  Den Schwerpun
 kt der Veranstaltung bildete das Thema „Fette“ als wichtiger Bestandteil ei
 ner ausgewogenen und abwechslungsreichen Ernährung. Die...					</p>
				
		
 							<p class="item-readmore">
						<a class="mod-articles-category-titl
 e " href="https://nachbarschaftsverein-fuldatal.de/gesunde-ernaehrung-im-al
 ter-was-tut-mir-gut">
															Weiterlesen &hellip;													</a>

 					</p>
							</div>

			</div>
		</div>
			<div class="blog-item col-12
 ">
			<div class="item-inner">
			<!-- Item image -->
						<!-- // Item im
 age -->
			
			<div class="item-ct">

									<h3 class="item-title"><a cl
 ass="mod-articles-category-title " href="https://nachbarschaftsverein-fulda
 tal.de/seelisches-wohlergehen-im-alter">Seelisches Wohlergehen im Alter: In
 formationsveranstaltung in Fuldatal stieß auf großes Interesse</a></h3>
			
 	
				<div class="item-meta">
					
					
									</div>

									<p clas
 s="item-introtext">
						Auf Einladung des Seniorenbeirats und des Nachbar
 schaftsvereins Fuldatal hatten interessierte Bürgerinnen und Bürger in der 
 vorletzten Januarwoche die Gelegenheit, sich intensiv mit einem Thema ausei
 nanderzusetzen, das viele Menschen bewegt: dem seelischen Wohlergehen im Al
 ter. Die gut besuchte Informationsveranstaltung bot wertvolle Impulse, prax
 isnahe Anregungen und Raum für Austausch in angenehmer Atmosphäre.  Als Ref
 erentin konnte die Psychologin und Therapeutin&nbsp;Cordula Schmidt&nbsp;ge
 wonnen werden, die den Teilnehmenden auf verständliche und zugleich fundier
 te Weise wissenschaftlich belegte,...					</p>
				
									<p class="item
 -readmore">
						<a class="mod-articles-category-title " href="https://nac
 hbarschaftsverein-fuldatal.de/seelisches-wohlergehen-im-alter">
											
 				Weiterlesen &hellip;													</a>
					</p>
							</div>

			</div
 >
		</div>
			<div class="blog-item col-12">
			<div class="item-inner">
		
 	<!-- Item image -->
						<!-- // Item image -->
			
			<div class="item-c
 t">

									<h3 class="item-title"><a class="mod-articles-category-title 
 " href="https://nachbarschaftsverein-fuldatal.de/neujahrskonzert-2026-der-m
 usikschule-chroma">Neujahrskonzert 2026 der Musikschule Chroma</a></h3>
			
 	
				<div class="item-meta">
					
					
									</div>

									<p clas
 s="item-introtext">
						Natürlich war der Nachbarschaftsverein Fuldatal b
 eim traditionellen Neujahrskonzert der Musikschule Chroma in der Mehrzweckh
 alle in Vellmar-Frommershausen wieder mit von der Partie. Die Louis Spohr-S
 infonietta unter der Leitung von Lore Schrettner begeisterte die zahlreiche
 n Gäste auf ein Neues mit virtuos dargebotenen Stücken, voller temperamentv
 oller Hingabe, aber auch gefühlvoll und besinnlich.  <em>Die Louis Spohr-Si
 nfonietta unter der Leitung von Lore Schrettner (Bildmitte)</em> Das breit 
 gefächerte Repertoire umfasste dieses Mal unter anderem Stücke von Robert S
 tolz, wie den UNO-Marsch &nbsp;sowie –...					</p>
				
									<p class="
 item-readmore">
						<a class="mod-articles-category-title " href="https:/
 /nachbarschaftsverein-fuldatal.de/neujahrskonzert-2026-der-musikschule-chro
 ma">
															Weiterlesen &hellip;													</a>
					</p>
							
 </div>

			</div>
		</div>
			<div class="blog-item col-12">
			<div class=
 "item-inner">
			<!-- Item image -->
						<!-- // Item image -->
			
			<d
 iv class="item-ct">

									<h3 class="item-title"><a class="mod-articles
 -category-title " href="https://nachbarschaftsverein-fuldatal.de/senioren-i
 n-bewegung-neustart-nach-der-winterpause-am-15-januar">Senioren in Bewegung
  - nach der Winterpause am 15. Januar neu gestartet</a></h3>
				
				<div 
 class="item-meta">
					
					
									</div>

									<p class="item-int
 rotext">
						Der Nachbarschaftsverein bringt „Senioren in Bewegung“ – Tra
 ining für eine sichere Mobilität im Alltag Einmal wöchentlich am Donnerstag
  treffen sich aktive Seniorinnen und Senioren im Fuldataler Forum, um sich 
 mithilfe einer im Seniorensport erfahrenen Sportlehrerin für ihren Alltag i
 n Form zu bringen. So trainieren sie am Anfang zur Musik der 60er ihre Orie
 ntierung, ihr Gedächtnis und Multitasking Fähigkeiten, indem nicht nur rhyt
 hmisch gelaufen wird, sondern indem Zusatzaufgaben (Bälle zuwerfen, einem P
 artner wie ein Schatten zu folgen, Übungen zu Zahlen erledigen o.ä.) zu bew
 ältigen sind.					</p>
				
									<p class="item-readmore">
						<a cla
 ss="mod-articles-category-title " href="https://nachbarschaftsverein-fuldat
 al.de/senioren-in-bewegung-neustart-nach-der-winterpause-am-15-januar">
			
 												Weiterlesen &hellip;													</a>
					</p>
							</div>


 			</div>
		</div>
			<div class="blog-item col-12">
			<div class="item-in
 ner">
			<!-- Item image -->
						<!-- // Item image -->
			
			<div class
 ="item-ct">

									<h3 class="item-title"><a class="mod-articles-categor
 y-title " href="https://nachbarschaftsverein-fuldatal.de/sicher-im-alter-in
 formiert-statt-hereingefallen">Sicher im Alter - informiert statt hereingef
 allen</a></h3>
				
				<div class="item-meta">
					
					
									</div>
 

									<p class="item-introtext">
						Mit großem Interesse und spürba
 rer Aufmerksamkeit verfolgten zahlreiche Gäste am dritten Mittwoch im Novem
 ber eine offene Informationsveranstaltung unter dem Titel „Sicher im Alter 
 – informiert statt hereingefallen“, zu der der Nachbarschaftsverein Fuldata
 l zusammen mit dem Seniorenbeirat der Gemeinde Fuldatal eingeladen haben. Z
 iel des Abends war es, ältere Menschen über aktuelle Betrugsmaschen aufzukl
 ären und ihnen praktische Handlungsempfehlungen an die Hand zu geben. Die R
 esonanz zeigte deutlich, wie wichtig das Thema für viele Seniorinnen und Se
 nioren inzwischen geworden ist.  <em>Bild oben:</em>...					</p>
				
					
 				<p class="item-readmore">
						<a class="mod-articles-category-title "
  href="https://nachbarschaftsverein-fuldatal.de/sicher-im-alter-informiert-
 statt-hereingefallen">
															Weiterlesen &hellip;													</a>
 
					</p>
							</div>

			</div>
		</div>
			<div class="blog-item col-1
 2">
			<div class="item-inner">
			<!-- Item image -->
						<!-- // Item i
 mage -->
			
			<div class="item-ct">

									<h3 class="item-title"><a c
 lass="mod-articles-category-title " href="https://nachbarschaftsverein-fuld
 atal.de/vorsorgevollmacht-patienten-und-betreuungsverfuegung">Vorsorgevollm
 acht, Patienten- und Betreuungsverfügung</a></h3>
				
				<div class="item
 -meta">
					
					
									</div>

									<p class="item-introtext">
		
 				Der Seniorenbeirat der Gemeinde Fuldatal und der Nachbarschaftsverein F
 uldatal hatten zu einer offenen Informationsveranstaltung über Vorsorgevoll
 macht, Patienten- und Betreuungsverfügung eingeladen.  Deren Vorsitzende Br
 igitte Ringeler-Leipholz und Michael Thöne (Bildmitte oben) freuten sich, r
 und 60 Gäste im BeneVit Haus Sonnenhof in Fuldatal-Ihringshausen am dritten
  Mittwoch im September begrüßen zu dürfen  Martina Homburg vom Betreuungsve
 rein e. V. Hofgeismar (Bild oben) hat den Anwesenden durch ihre&nbsp;verstä
 ndliche und praxisnahe Darstellung nicht nur wichtige rechtliche Zusammenhä
 nge...					</p>
				
									<p class="item-readmore">
						<a class="mod
 -articles-category-title " href="https://nachbarschaftsverein-fuldatal.de/v
 orsorgevollmacht-patienten-und-betreuungsverfuegung">
															Weiter
 lesen &hellip;													</a>
					</p>
							</div>

			</div>
		</div>
 
	</div></div>
</p>
DTSTAMP:20260422T192520
DTSTART;TZID=Europe/Berlin:20270120T150000
DTEND;TZID=Europe/Berlin:20270120T170000
SEQUENCE:0
TRANSP:OPAQUE
END:VEVENT
END:VCALENDAR